

BEGIN:VCALENDAR
VERSION:2.0
PRODID:-//hacksw/handcal//NONSGML v1.0//EN
CALSCALE:GREGORIAN
BEGIN:VEVENT
DTEND:20241105T210000
UID:69e6407ba9768
DTSTAMP:20260421T010427
LOCATION:Wyndham Harbour Loft Street Wyndham Harbour 3030 VIC
DESCRIPTION:Fireworks\r\nDestruction of the Houses of Parliament\r\nBring your \"Guy\" in a wheel barrow
URL;VALUE=URI:http://streamclub.com.au/event/57384
SUMMARY:Guy Fawkes Night
DTSTART:20241105T190000
END:VEVENT
END:VCALENDAR

