

BEGIN:VCALENDAR
VERSION:2.0
PRODID:-//hacksw/handcal//NONSGML v1.0//EN
CALSCALE:GREGORIAN
BEGIN:VEVENT
DTEND:20261114T160000
UID:69e60bfeb6846
DTSTAMP:20260420T212030
LOCATION:Werribee River Werribee Street Bridge Werribee Street Bridge 3030 VIC
DESCRIPTION:
URL;VALUE=URI:http://streamclub.com.au/event/57373
SUMMARY:Environmental Clean Up
DTSTART:20261114T080000
END:VEVENT
END:VCALENDAR

