

BEGIN:VCALENDAR
VERSION:2.0
PRODID:-//hacksw/handcal//NONSGML v1.0//EN
CALSCALE:GREGORIAN
BEGIN:VEVENT
DTEND:20261103T170000
UID:69e609f12faca
DTSTAMP:20260420T211145
LOCATION:The Nursery Car Park - Victoria Racing Club 448 Epsom Rd Flemington 3031 VIC
DESCRIPTION:The Race that Stops the Nation
Club Marquee
Food &amp\; beverages included
Racebook provided
$150 per person
Does not include admittance to the Members' Enclosure
Dress: Appropriate for the VRC members area
URL;VALUE=URI:http://streamclub.com.au/event/57307
SUMMARY:Melbourne Cup Raceday
DTSTART:20261103T103000
END:VEVENT
END:VCALENDAR

