

BEGIN:VCALENDAR
VERSION:2.0
PRODID:-//hacksw/handcal//NONSGML v1.0//EN
CALSCALE:GREGORIAN
BEGIN:VEVENT
DTEND:20261013T083000
UID:69e60cb85522d
DTSTAMP:20260420T212336
LOCATION:Zoom Online Melbourne 3000 VIC
DESCRIPTION:
URL;VALUE=URI:http://streamclub.com.au/event/56964
SUMMARY:Online Club Meeting - ONLINE ONLY
DTSTART:20261013T070000
END:VEVENT
END:VCALENDAR

