

BEGIN:VCALENDAR
VERSION:2.0
PRODID:-//hacksw/handcal//NONSGML v1.0//EN
CALSCALE:GREGORIAN
BEGIN:VEVENT
DTEND:20200430T000000
UID:603575ce69439
DTSTAMP:20210224T083822
LOCATION:TEFRES FDA FDA 31 TAS
DESCRIPTION:
URL;VALUE=URI:http://proto2.streamclub.com.au/event/40493
SUMMARY:GREAT
DTSTART:20200131T000000
END:VEVENT
END:VCALENDAR

