

BEGIN:VCALENDAR
VERSION:2.0
PRODID:-//hacksw/handcal//NONSGML v1.0//EN
CALSCALE:GREGORIAN
BEGIN:VEVENT
DTEND:20201128T000000
UID:6035758a35978
DTSTAMP:20210224T083714
LOCATION:sandringham jhhjhj hjhjhj 3195 VIC
DESCRIPTION:
URL;VALUE=URI:http://proto2.streamclub.com.au/event/40474
SUMMARY:Golf Day 2020
DTSTART:20201128T000000
END:VEVENT
END:VCALENDAR

