

BEGIN:VCALENDAR
VERSION:2.0
PRODID:-//hacksw/handcal//NONSGML v1.0//EN
CALSCALE:GREGORIAN
BEGIN:VEVENT
DTEND:20180701T000000
UID:603575baa1c38
DTSTAMP:20210224T083802
LOCATION:Streamscape Level 1\, 1 Taylor Street  Moorabbin 3189 VIC
DESCRIPTION:
URL;VALUE=URI:http://proto2.streamclub.com.au/event/36931
SUMMARY:Fun Run - Our Annual Event Fundraiser (Copy)
DTSTART:20180101T000000
END:VEVENT
END:VCALENDAR

