

BEGIN:VCALENDAR
VERSION:2.0
PRODID:-//hacksw/handcal//NONSGML v1.0//EN
CALSCALE:GREGORIAN
BEGIN:VEVENT
DTEND:20210131T000000
UID:603575dd85e21
DTSTAMP:20210224T083837
LOCATION:test test te4st 3195 VIC
DESCRIPTION:
URL;VALUE=URI:http://proto2.streamclub.com.au/event/20498
SUMMARY:Our Conference
DTSTART:20201206T000000
END:VEVENT
END:VCALENDAR

