

BEGIN:VCALENDAR
VERSION:2.0
PRODID:-//hacksw/handcal//NONSGML v1.0//EN
CALSCALE:GREGORIAN
BEGIN:VEVENT
DTEND:20261029T193000
UID:69e61d302ff7f
DTSTAMP:20260420T223352
LOCATION:StreamScape Waverley Road Malvern East 3145 VIC
DESCRIPTION:
URL;VALUE=URI:http://streamclub.com.au/event/14888
SUMMARY:Golf Day
DTSTART:20261029T183000
END:VEVENT
END:VCALENDAR

